BEGIN:VCALENDAR
VERSION:2.0
PRODID:-//Heaoluteaduste tippkeskus EstWell - ECPv6.15.17.1//NONSGML v1.0//EN
CALSCALE:GREGORIAN
METHOD:PUBLISH
X-WR-CALNAME:Heaoluteaduste tippkeskus EstWell
X-ORIGINAL-URL:https://sisu.ut.ee/estwell
X-WR-CALDESC:Events for Heaoluteaduste tippkeskus EstWell
REFRESH-INTERVAL;VALUE=DURATION:PT1H
X-Robots-Tag:noindex
X-PUBLISHED-TTL:PT1H
BEGIN:VTIMEZONE
TZID:Europe/Tallinn
BEGIN:DAYLIGHT
TZOFFSETFROM:+0200
TZOFFSETTO:+0300
TZNAME:EEST
DTSTART:20250330T010000
END:DAYLIGHT
BEGIN:STANDARD
TZOFFSETFROM:+0300
TZOFFSETTO:+0200
TZNAME:EET
DTSTART:20251026T010000
END:STANDARD
BEGIN:DAYLIGHT
TZOFFSETFROM:+0200
TZOFFSETTO:+0300
TZNAME:EEST
DTSTART:20260329T010000
END:DAYLIGHT
BEGIN:STANDARD
TZOFFSETFROM:+0300
TZOFFSETTO:+0200
TZNAME:EET
DTSTART:20261025T010000
END:STANDARD
BEGIN:DAYLIGHT
TZOFFSETFROM:+0200
TZOFFSETTO:+0300
TZNAME:EEST
DTSTART:20270328T010000
END:DAYLIGHT
BEGIN:STANDARD
TZOFFSETFROM:+0300
TZOFFSETTO:+0200
TZNAME:EET
DTSTART:20271031T010000
END:STANDARD
END:VTIMEZONE
BEGIN:VEVENT
DTSTART;TZID=Europe/Tallinn:20260429T150000
DTEND;TZID=Europe/Tallinn:20260429T163000
DTSTAMP:20260421T175226
CREATED:20260410T084445Z
LAST-MODIFIED:20260413T072217Z
UID:3134-1777474800-1777480200@sisu.ut.ee
SUMMARY:Minikonverents „Kas heaolu kasvab koos vanusega?“
DESCRIPTION:HeaEesti uuringu esimese laine tulemusi tutvustav esimene minikonverents „Kas heaolu kasvab koos vanusega?“ toimub 29. aprillil kell 15.00-16.30 Tartus Lossi 36 ruumis 205\, 206 ja veebis (veebilink saadetakse osalejatele). \nPalun registreeri ennast soovitavalt enne 23. aprilli siin. \nKuulamiseks on ettekanded järgmistel teemadel: vanus ja heaolu; vaimse tervise profiilid; isiksus ja heaolu; demokraatia ja heaolu; meedia ja heaolu; sotsiaalmeedia ja heaolu; tervise kirjaoskus ja heaolu. \nEttekandeid teevad: \n\nLiisa Talving\, Tartu Ülikooli võrdleva poliitika kaasprofessor\nUku Vainik\, Tartu Ülikooli käitumisgeneetika professor\nRagne Kõuts-Klemm\, Tartu Ülikooli ajakirjandussotsioloogia kaasprofessor\nKatrin Tiidenberg\, Tallinna Ülikooli Balti filmi\, meedia ja kunstide instituudi osaluskultuuri professor\nRiina Hallik\, TalTechi e-tervise keskuse lektor\nOliver Nahkur\, Tartu Ülikooli sotsiaalse heaolu uuringute teadur\n\nModereerib HeaEesti uuringu juht Mare Ainsaar. \nPärast ettekandeid\, kell 16.30 ootavad suupisted ja vein.
URL:https://sisu.ut.ee/estwell/event/minikonverents-kas-heaolu-kasvab-koos-vanusega/
LOCATION:Lossi 36\, ruumid 205-206\, Lossi 36\, Tartu\, Estonia
END:VEVENT
BEGIN:VEVENT
DTSTART;TZID=Europe/Tallinn:20260505T110000
DTEND;TZID=Europe/Tallinn:20260505T120000
DTSTAMP:20260421T175226
CREATED:20250912T152937Z
LAST-MODIFIED:20250916T083421Z
UID:2504-1777978800-1777982400@sisu.ut.ee
SUMMARY:EstWell seminar Arengu ja hariduse uurimisrühm
DESCRIPTION:
URL:https://sisu.ut.ee/estwell/event/estwell-seminar-arengu-ja-hariduse-uurimisruhm/
END:VEVENT
BEGIN:VEVENT
DTSTART;TZID=Europe/Tallinn:20260519T110000
DTEND;TZID=Europe/Tallinn:20260519T120000
DTSTAMP:20260421T175226
CREATED:20250912T154935Z
LAST-MODIFIED:20260413T095847Z
UID:2506-1779188400-1779192000@sisu.ut.ee
SUMMARY:EstWell seminar  Tähelepanu\, aju ja kognitsiooni uurimisrühm
DESCRIPTION:
URL:https://sisu.ut.ee/estwell/event/estwell-seminar-tahelepanu-aju-ja-kognitsiooni-uurimisruhm/
END:VEVENT
BEGIN:VEVENT
DTSTART;TZID=Europe/Tallinn:20260602T110000
DTEND;TZID=Europe/Tallinn:20260602T120000
DTSTAMP:20260421T175226
CREATED:20250912T155010Z
LAST-MODIFIED:20250916T083514Z
UID:2508-1780398000-1780401600@sisu.ut.ee
SUMMARY:EstWell seminar Interaktsioonidisaini uurimisrühm
DESCRIPTION:
URL:https://sisu.ut.ee/estwell/event/estwell-seminar-interaktsioonidisaini-uurimisruhm/
END:VEVENT
BEGIN:VEVENT
DTSTART;TZID=Europe/Tallinn:20260616T110000
DTEND;TZID=Europe/Tallinn:20260616T120000
DTSTAMP:20260421T175226
CREATED:20250912T155050Z
LAST-MODIFIED:20260413T095941Z
UID:2510-1781607600-1781611200@sisu.ut.ee
SUMMARY:EstWell seminar Rahvatervise uurimisrühm
DESCRIPTION:
URL:https://sisu.ut.ee/estwell/event/estwell-seminar-rahvatervise-uurimisruhm/
END:VEVENT
BEGIN:VEVENT
DTSTART;TZID=Europe/Tallinn:20260817T100000
DTEND;TZID=Europe/Tallinn:20260819T170000
DTSTAMP:20260421T175226
CREATED:20251211T122423Z
LAST-MODIFIED:20251211T122423Z
UID:2864-1786960800-1787158800@sisu.ut.ee
SUMMARY:EstWell aastakonverents
DESCRIPTION:
URL:https://sisu.ut.ee/estwell/event/estwell-aastakonverents-2/
END:VEVENT
END:VCALENDAR